Workbook

Sheet Sheet2
C1: Anatomy & Physiology | D1: Bottle Rocket | E1: Crime Busters | F1: Disease Detectives | G1: Dynamic Planet | H1: Ecology | I1: Experimental Design | J1: Fast Facts | K1: Food Science | L1: Hovercraft | M1: Invasive Species | N1: Meteorology | O1: Microbe Mission | P1: Mission Possible | Q1: Optics | R1: Reach for the Stars | S1: Road Scholar | T1: Rocks and Minerals | U1: Scrambler | V1: Towers | W1: Wind Power | X1: Wright Stuff | Y1: Write It Do It
B2: B | C2: 1 | D2: 2 | E2: 3 | F2: 4 | G2: 5 | H2: 6 | I2: 7 | J2: 8 | K2: 9 | L2: 10 | M2: 11 | N2: 12 | O2: 13 | P2: 14 | Q2: 15 | R2: 16 | S2: 17 | T2: 18 | U2: 19 | V2: 20 | W2: 21 | X2: 22 | Y2: 23
A3: Anatomy & Physiology | B3: 1 | C3: =IF(AND(C2="",D3=""),"",IF(CORREL(Sheet1!D$2:D$61,INDEX(Sheet1!$D$2:$Z$61,,Sheet2!$B3))=1,"",CORREL(Sheet1!D$2:D$61,INDEX(Sheet1!$D$2:$Z$61,,Sheet2!$B3)))) | D3: =IF(AND(D2="",E3=""),"",IF(CORREL(Sheet1!E$2:E$61,INDEX(Sheet1!$D$2:$Z$61,,Sheet2!$B3))=1,"",CORREL(Sheet1!E$2:E$61,INDEX(Sheet1!$D$2:$Z$61,,Sheet2!$B3)))) -> 0.31097989 | E3: =IF(AND(E2="",F3=""),"",IF(CORREL(Sheet1!F$2:F$61,INDEX(Sheet1!$D$2:$Z$61,,Sheet2!$B3))=1,"",CORREL(Sheet1!F$2:F$61,INDEX(Sheet1!$D$2:$Z$61,,Sheet2!$B3)))) -> 0.37721589 | F3: =IF(AND(F2="",G3=""),"",IF(CORREL(Sheet1!G$2:G$61,INDEX(Sheet1!$D$2:$Z$61,,Sheet2!$B3))=1,"",CORREL(Sheet1!G$2:G$61,INDEX(Sheet1!$D$2:$Z$61,,Sheet2!$B3)))) -> 0.37622816 | G3: =IF(AND(G2="",H3=""),"",IF(CORREL(Sheet1!H$2:H$61,INDEX(Sheet1!$D$2:$Z$61,,Sheet2!$B3))=1,"",CORREL(Sheet1!H$2:H$61,INDEX(Sheet1!$D$2:$Z$61,,Sheet2!$B3)))) -> 0.29480411 | H3: =IF(AND(H2="",I3=""),"",IF(CORREL(Sheet1!I$2:I$61,INDEX(Sheet1!$D$2:$Z$61,,Sheet2!$B3))=1,"",CORREL(Sheet1!I$2:I$61,INDEX(Sheet1!$D$2:$Z$61,,Sheet2!$B3)))) -> 0.38693553 | I3: =IF(AND(I2="",J3=""),"",IF(CORREL(Sheet1!J$2:J$61,INDEX(Sheet1!$D$2:$Z$61,,Sheet2!$B3))=1,"",CORREL(Sheet1!J$2:J$61,INDEX(Sheet1!$D$2:$Z$61,,Sheet2!$B3)))) -> 0.42777956 | J3: =IF(AND(J2="",K3=""),"",IF(CORREL(Sheet1!K$2:K$61,INDEX(Sheet1!$D$2:$Z$61,,Sheet2!$B3))=1,"",CORREL(Sheet1!K$2:K$61,INDEX(Sheet1!$D$2:$Z$61,,Sheet2!$B3)))) -> 0.30252848 | ... Y3: =IF(AND(Y2="",Z3=""),"",IF(CORREL(Sheet1!Z$2:Z$61,INDEX(Sheet1!$D$2:$Z$61,,Sheet2!$B3))=1,"",CORREL(Sheet1!Z$2:Z$61,INDEX(Sheet1!$D$2:$Z$61,,Sheet2!$B3)))) -> 0.2983362
A4: Bottle Rocket | B4: 2 | C4: =IF(AND(C3="",D4=""),"",IF(CORREL(Sheet1!D$2:D$61,INDEX(Sheet1!$D$2:$Z$61,,Sheet2!$B4))=1,"",CORREL(Sheet1!D$2:D$61,INDEX(Sheet1!$D$2:$Z$61,,Sheet2!$B4)))) | D4: =IF(AND(D3="",E4=""),"",IF(CORREL(Sheet1!E$2:E$61,INDEX(Sheet1!$D$2:$Z$61,,Sheet2!$B4))=1,"",CORREL(Sheet1!E$2:E$61,INDEX(Sheet1!$D$2:$Z$61,,Sheet2!$B4)))) | E4: =IF(AND(E3="",F4=""),"",IF(CORREL(Sheet1!F$2:F$61,INDEX(Sheet1!$D$2:$Z$61,,Sheet2!$B4))=1,"",CORREL(Sheet1!F$2:F$61,INDEX(Sheet1!$D$2:$Z$61,,Sheet2!$B4)))) -> 0.65381975 | F4: =IF(AND(F3="",G4=""),"",IF(CORREL(Sheet1!G$2:G$61,INDEX(Sheet1!$D$2:$Z$61,,Sheet2!$B4))=1,"",CORREL(Sheet1!G$2:G$61,INDEX(Sheet1!$D$2:$Z$61,,Sheet2!$B4)))) -> 0.30045405 | G4: =IF(AND(G3="",H4=""),"",IF(CORREL(Sheet1!H$2:H$61,INDEX(Sheet1!$D$2:$Z$61,,Sheet2!$B4))=1,"",CORREL(Sheet1!H$2:H$61,INDEX(Sheet1!$D$2:$Z$61,,Sheet2!$B4)))) -> 0.59987313 | H4: =IF(AND(H3="",I4=""),"",IF(CORREL(Sheet1!I$2:I$61,INDEX(Sheet1!$D$2:$Z$61,,Sheet2!$B4))=1,"",CORREL(Sheet1!I$2:I$61,INDEX(Sheet1!$D$2:$Z$61,,Sheet2!$B4)))) -> 0.5019352 | I4: =IF(AND(I3="",J4=""),"",IF(CORREL(Sheet1!J$2:J$61,INDEX(Sheet1!$D$2:$Z$61,,Sheet2!$B4))=1,"",CORREL(Sheet1!J$2:J$61,INDEX(Sheet1!$D$2:$Z$61,,Sheet2!$B4)))) -> 0.49963616 | J4: =IF(AND(J3="",K4=""),"",IF(CORREL(Sheet1!K$2:K$61,INDEX(Sheet1!$D$2:$Z$61,,Sheet2!$B4))=1,"",CORREL(Sheet1!K$2:K$61,INDEX(Sheet1!$D$2:$Z$61,,Sheet2!$B4)))) -> 0.54377307 | ... Y4: =IF(AND(Y3="",Z4=""),"",IF(CORREL(Sheet1!Z$2:Z$61,INDEX(Sheet1!$D$2:$Z$61,,Sheet2!$B4))=1,"",CORREL(Sheet1!Z$2:Z$61,INDEX(Sheet1!$D$2:$Z$61,,Sheet2!$B4)))) -> 0.39488284
A5: Crime Busters | B5: 3 | C5: =IF(AND(C4="",D5=""),"",IF(CORREL(Sheet1!D$2:D$61,INDEX(Sheet1!$D$2:$Z$61,,Sheet2!$B5))=1,"",CORREL(Sheet1!D$2:D$61,INDEX(Sheet1!$D$2:$Z$61,,Sheet2!$B5)))) | D5: =IF(AND(D4="",E5=""),"",IF(CORREL(Sheet1!E$2:E$61,INDEX(Sheet1!$D$2:$Z$61,,Sheet2!$B5))=1,"",CORREL(Sheet1!E$2:E$61,INDEX(Sheet1!$D$2:$Z$61,,Sheet2!$B5)))) | E5: =IF(AND(E4="",F5=""),"",IF(CORREL(Sheet1!F$2:F$61,INDEX(Sheet1!$D$2:$Z$61,,Sheet2!$B5))=1,"",CORREL(Sheet1!F$2:F$61,INDEX(Sheet1!$D$2:$Z$61,,Sheet2!$B5)))) | F5: =IF(AND(F4="",G5=""),"",IF(CORREL(Sheet1!G$2:G$61,INDEX(Sheet1!$D$2:$Z$61,,Sheet2!$B5))=1,"",CORREL(Sheet1!G$2:G$61,INDEX(Sheet1!$D$2:$Z$61,,Sheet2!$B5)))) -> 0.44407849 | G5: =IF(AND(G4="",H5=""),"",IF(CORREL(Sheet1!H$2:H$61,INDEX(Sheet1!$D$2:$Z$61,,Sheet2!$B5))=1,"",CORREL(Sheet1!H$2:H$61,INDEX(Sheet1!$D$2:$Z$61,,Sheet2!$B5)))) -> 0.55559878 | H5: =IF(AND(H4="",I5=""),"",IF(CORREL(Sheet1!I$2:I$61,INDEX(Sheet1!$D$2:$Z$61,,Sheet2!$B5))=1,"",CORREL(Sheet1!I$2:I$61,INDEX(Sheet1!$D$2:$Z$61,,Sheet2!$B5)))) -> 0.6504589 | I5: =IF(AND(I4="",J5=""),"",IF(CORREL(Sheet1!J$2:J$61,INDEX(Sheet1!$D$2:$Z$61,,Sheet2!$B5))=1,"",CORREL(Sheet1!J$2:J$61,INDEX(Sheet1!$D$2:$Z$61,,Sheet2!$B5)))) -> 0.58406346 | J5: =IF(AND(J4="",K5=""),"",IF(CORREL(Sheet1!K$2:K$61,INDEX(Sheet1!$D$2:$Z$61,,Sheet2!$B5))=1,"",CORREL(Sheet1!K$2:K$61,INDEX(Sheet1!$D$2:$Z$61,,Sheet2!$B5)))) -> 0.48335649 | ... Y5: =IF(AND(Y4="",Z5=""),"",IF(CORREL(Sheet1!Z$2:Z$61,INDEX(Sheet1!$D$2:$Z$61,,Sheet2!$B5))=1,"",CORREL(Sheet1!Z$2:Z$61,INDEX(Sheet1!$D$2:$Z$61,,Sheet2!$B5)))) -> 0.47758757
A6: Disease Detectives | B6: 4 | C6: =IF(AND(C5="",D6=""),"",IF(CORREL(Sheet1!D$2:D$61,INDEX(Sheet1!$D$2:$Z$61,,Sheet2!$B6))=1,"",CORREL(Sheet1!D$2:D$61,INDEX(Sheet1!$D$2:$Z$61,,Sheet2!$B6)))) | D6: =IF(AND(D5="",E6=""),"",IF(CORREL(Sheet1!E$2:E$61,INDEX(Sheet1!$D$2:$Z$61,,Sheet2!$B6))=1,"",CORREL(Sheet1!E$2:E$61,INDEX(Sheet1!$D$2:$Z$61,,Sheet2!$B6)))) | E6: =IF(AND(E5="",F6=""),"",IF(CORREL(Sheet1!F$2:F$61,INDEX(Sheet1!$D$2:$Z$61,,Sheet2!$B6))=1,"",CORREL(Sheet1!F$2:F$61,INDEX(Sheet1!$D$2:$Z$61,,Sheet2!$B6)))) | F6: =IF(AND(F5="",G6=""),"",IF(CORREL(Sheet1!G$2:G$61,INDEX(Sheet1!$D$2:$Z$61,,Sheet2!$B6))=1,"",CORREL(Sheet1!G$2:G$61,INDEX(Sheet1!$D$2:$Z$61,,Sheet2!$B6)))) | G6: =IF(AND(G5="",H6=""),"",IF(CORREL(Sheet1!H$2:H$61,INDEX(Sheet1!$D$2:$Z$61,,Sheet2!$B6))=1,"",CORREL(Sheet1!H$2:H$61,INDEX(Sheet1!$D$2:$Z$61,,Sheet2!$B6)))) -> 0.49378732 | H6: =IF(AND(H5="",I6=""),"",IF(CORREL(Sheet1!I$2:I$61,INDEX(Sheet1!$D$2:$Z$61,,Sheet2!$B6))=1,"",CORREL(Sheet1!I$2:I$61,INDEX(Sheet1!$D$2:$Z$61,,Sheet2!$B6)))) -> 0.5176401 | I6: =IF(AND(I5="",J6=""),"",IF(CORREL(Sheet1!J$2:J$61,INDEX(Sheet1!$D$2:$Z$61,,Sheet2!$B6))=1,"",CORREL(Sheet1!J$2:J$61,INDEX(Sheet1!$D$2:$Z$61,,Sheet2!$B6)))) -> 0.61921515 | J6: =IF(AND(J5="",K6=""),"",IF(CORREL(Sheet1!K$2:K$61,INDEX(Sheet1!$D$2:$Z$61,,Sheet2!$B6))=1,"",CORREL(Sheet1!K$2:K$61,INDEX(Sheet1!$D$2:$Z$61,,Sheet2!$B6)))) -> 0.4323725 | ... Y6: =IF(AND(Y5="",Z6=""),"",IF(CORREL(Sheet1!Z$2:Z$61,INDEX(Sheet1!$D$2:$Z$61,,Sheet2!$B6))=1,"",CORREL(Sheet1!Z$2:Z$61,INDEX(Sheet1!$D$2:$Z$61,,Sheet2!$B6)))) -> 0.31874764
A7: Dynamic Planet | B7: 5 | C7: =IF(AND(C6="",D7=""),"",IF(CORREL(Sheet1!D$2:D$61,INDEX(Sheet1!$D$2:$Z$61,,Sheet2!$B7))=1,"",CORREL(Sheet1!D$2:D$61,INDEX(Sheet1!$D$2:$Z$61,,Sheet2!$B7)))) | D7: =IF(AND(D6="",E7=""),"",IF(CORREL(Sheet1!E$2:E$61,INDEX(Sheet1!$D$2:$Z$61,,Sheet2!$B7))=1,"",CORREL(Sheet1!E$2:E$61,INDEX(Sheet1!$D$2:$Z$61,,Sheet2!$B7)))) | E7: =IF(AND(E6="",F7=""),"",IF(CORREL(Sheet1!F$2:F$61,INDEX(Sheet1!$D$2:$Z$61,,Sheet2!$B7))=1,"",CORREL(Sheet1!F$2:F$61,INDEX(Sheet1!$D$2:$Z$61,,Sheet2!$B7)))) | F7: =IF(AND(F6="",G7=""),"",IF(CORREL(Sheet1!G$2:G$61,INDEX(Sheet1!$D$2:$Z$61,,Sheet2!$B7))=1,"",CORREL(Sheet1!G$2:G$61,INDEX(Sheet1!$D$2:$Z$61,,Sheet2!$B7)))) | G7: =IF(AND(G6="",H7=""),"",IF(CORREL(Sheet1!H$2:H$61,INDEX(Sheet1!$D$2:$Z$61,,Sheet2!$B7))=1,"",CORREL(Sheet1!H$2:H$61,INDEX(Sheet1!$D$2:$Z$61,,Sheet2!$B7)))) | H7: =IF(AND(H6="",I7=""),"",IF(CORREL(Sheet1!I$2:I$61,INDEX(Sheet1!$D$2:$Z$61,,Sheet2!$B7))=1,"",CORREL(Sheet1!I$2:I$61,INDEX(Sheet1!$D$2:$Z$61,,Sheet2!$B7)))) -> 0.5630801 | I7: =IF(AND(I6="",J7=""),"",IF(CORREL(Sheet1!J$2:J$61,INDEX(Sheet1!$D$2:$Z$61,,Sheet2!$B7))=1,"",CORREL(Sheet1!J$2:J$61,INDEX(Sheet1!$D$2:$Z$61,,Sheet2!$B7)))) -> 0.72753991 | J7: =IF(AND(J6="",K7=""),"",IF(CORREL(Sheet1!K$2:K$61,INDEX(Sheet1!$D$2:$Z$61,,Sheet2!$B7))=1,"",CORREL(Sheet1!K$2:K$61,INDEX(Sheet1!$D$2:$Z$61,,Sheet2!$B7)))) -> 0.59916644 | ... Y7: =IF(AND(Y6="",Z7=""),"",IF(CORREL(Sheet1!Z$2:Z$61,INDEX(Sheet1!$D$2:$Z$61,,Sheet2!$B7))=1,"",CORREL(Sheet1!Z$2:Z$61,INDEX(Sheet1!$D$2:$Z$61,,Sheet2!$B7)))) -> 0.52668613
A8: Ecology | B8: 6 | C8: =IF(AND(C7="",D8=""),"",IF(CORREL(Sheet1!D$2:D$61,INDEX(Sheet1!$D$2:$Z$61,,Sheet2!$B8))=1,"",CORREL(Sheet1!D$2:D$61,INDEX(Sheet1!$D$2:$Z$61,,Sheet2!$B8)))) | D8: =IF(AND(D7="",E8=""),"",IF(CORREL(Sheet1!E$2:E$61,INDEX(Sheet1!$D$2:$Z$61,,Sheet2!$B8))=1,"",CORREL(Sheet1!E$2:E$61,INDEX(Sheet1!$D$2:$Z$61,,Sheet2!$B8)))) | E8: =IF(AND(E7="",F8=""),"",IF(CORREL(Sheet1!F$2:F$61,INDEX(Sheet1!$D$2:$Z$61,,Sheet2!$B8))=1,"",CORREL(Sheet1!F$2:F$61,INDEX(Sheet1!$D$2:$Z$61,,Sheet2!$B8)))) | F8: =IF(AND(F7="",G8=""),"",IF(CORREL(Sheet1!G$2:G$61,INDEX(Sheet1!$D$2:$Z$61,,Sheet2!$B8))=1,"",CORREL(Sheet1!G$2:G$61,INDEX(Sheet1!$D$2:$Z$61,,Sheet2!$B8)))) | G8: =IF(AND(G7="",H8=""),"",IF(CORREL(Sheet1!H$2:H$61,INDEX(Sheet1!$D$2:$Z$61,,Sheet2!$B8))=1,"",CORREL(Sheet1!H$2:H$61,INDEX(Sheet1!$D$2:$Z$61,,Sheet2!$B8)))) | H8: =IF(AND(H7="",I8=""),"",IF(CORREL(Sheet1!I$2:I$61,INDEX(Sheet1!$D$2:$Z$61,,Sheet2!$B8))=1,"",CORREL(Sheet1!I$2:I$61,INDEX(Sheet1!$D$2:$Z$61,,Sheet2!$B8)))) | I8: =IF(AND(I7="",J8=""),"",IF(CORREL(Sheet1!J$2:J$61,INDEX(Sheet1!$D$2:$Z$61,,Sheet2!$B8))=1,"",CORREL(Sheet1!J$2:J$61,INDEX(Sheet1!$D$2:$Z$61,,Sheet2!$B8)))) -> 0.64473233 | J8: =IF(AND(J7="",K8=""),"",IF(CORREL(Sheet1!K$2:K$61,INDEX(Sheet1!$D$2:$Z$61,,Sheet2!$B8))=1,"",CORREL(Sheet1!K$2:K$61,INDEX(Sheet1!$D$2:$Z$61,,Sheet2!$B8)))) -> 0.59093036 | ... Y8: =IF(AND(Y7="",Z8=""),"",IF(CORREL(Sheet1!Z$2:Z$61,INDEX(Sheet1!$D$2:$Z$61,,Sheet2!$B8))=1,"",CORREL(Sheet1!Z$2:Z$61,INDEX(Sheet1!$D$2:$Z$61,,Sheet2!$B8)))) -> 0.58803617
A9: Experimental Design | B9: 7 | C9: =IF(AND(C8="",D9=""),"",IF(CORREL(Sheet1!D$2:D$61,INDEX(Sheet1!$D$2:$Z$61,,Sheet2!$B9))=1,"",CORREL(Sheet1!D$2:D$61,INDEX(Sheet1!$D$2:$Z$61,,Sheet2!$B9)))) | D9: =IF(AND(D8="",E9=""),"",IF(CORREL(Sheet1!E$2:E$61,INDEX(Sheet1!$D$2:$Z$61,,Sheet2!$B9))=1,"",CORREL(Sheet1!E$2:E$61,INDEX(Sheet1!$D$2:$Z$61,,Sheet2!$B9)))) | E9: =IF(AND(E8="",F9=""),"",IF(CORREL(Sheet1!F$2:F$61,INDEX(Sheet1!$D$2:$Z$61,,Sheet2!$B9))=1,"",CORREL(Sheet1!F$2:F$61,INDEX(Sheet1!$D$2:$Z$61,,Sheet2!$B9)))) | F9: =IF(AND(F8="",G9=""),"",IF(CORREL(Sheet1!G$2:G$61,INDEX(Sheet1!$D$2:$Z$61,,Sheet2!$B9))=1,"",CORREL(Sheet1!G$2:G$61,INDEX(Sheet1!$D$2:$Z$61,,Sheet2!$B9)))) | G9: =IF(AND(G8="",H9=""),"",IF(CORREL(Sheet1!H$2:H$61,INDEX(Sheet1!$D$2:$Z$61,,Sheet2!$B9))=1,"",CORREL(Sheet1!H$2:H$61,INDEX(Sheet1!$D$2:$Z$61,,Sheet2!$B9)))) | H9: =IF(AND(H8="",I9=""),"",IF(CORREL(Sheet1!I$2:I$61,INDEX(Sheet1!$D$2:$Z$61,,Sheet2!$B9))=1,"",CORREL(Sheet1!I$2:I$61,INDEX(Sheet1!$D$2:$Z$61,,Sheet2!$B9)))) | I9: =IF(AND(I8="",J9=""),"",IF(CORREL(Sheet1!J$2:J$61,INDEX(Sheet1!$D$2:$Z$61,,Sheet2!$B9))=1,"",CORREL(Sheet1!J$2:J$61,INDEX(Sheet1!$D$2:$Z$61,,Sheet2!$B9)))) | J9: =IF(AND(J8="",K9=""),"",IF(CORREL(Sheet1!K$2:K$61,INDEX(Sheet1!$D$2:$Z$61,,Sheet2!$B9))=1,"",CORREL(Sheet1!K$2:K$61,INDEX(Sheet1!$D$2:$Z$61,,Sheet2!$B9)))) -> 0.6609633 | ... Y9: =IF(AND(Y8="",Z9=""),"",IF(CORREL(Sheet1!Z$2:Z$61,INDEX(Sheet1!$D$2:$Z$61,,Sheet2!$B9))=1,"",CORREL(Sheet1!Z$2:Z$61,INDEX(Sheet1!$D$2:$Z$61,,Sheet2!$B9)))) -> 0.50226598
A10: Fast Facts | B10: 8 | C10: =IF(AND(C9="",D10=""),"",IF(CORREL(Sheet1!D$2:D$61,INDEX(Sheet1!$D$2:$Z$61,,Sheet2!$B10))=1,"",CORREL(Sheet1!D$2:D$61,INDEX(Sheet1!$D$2:$Z$61,,Sheet2!$B10)))) | D10: =IF(AND(D9="",E10=""),"",IF(CORREL(Sheet1!E$2:E$61,INDEX(Sheet1!$D$2:$Z$61,,Sheet2!$B10))=1,"",CORREL(Sheet1!E$2:E$61,INDEX(Sheet1!$D$2:$Z$61,,Sheet2!$B10)))) | E10: =IF(AND(E9="",F10=""),"",IF(CORREL(Sheet1!F$2:F$61,INDEX(Sheet1!$D$2:$Z$61,,Sheet2!$B10))=1,"",CORREL(Sheet1!F$2:F$61,INDEX(Sheet1!$D$2:$Z$61,,Sheet2!$B10)))) | F10: =IF(AND(F9="",G10=""),"",IF(CORREL(Sheet1!G$2:G$61,INDEX(Sheet1!$D$2:$Z$61,,Sheet2!$B10))=1,"",CORREL(Sheet1!G$2:G$61,INDEX(Sheet1!$D$2:$Z$61,,Sheet2!$B10)))) | G10: =IF(AND(G9="",H10=""),"",IF(CORREL(Sheet1!H$2:H$61,INDEX(Sheet1!$D$2:$Z$61,,Sheet2!$B10))=1,"",CORREL(Sheet1!H$2:H$61,INDEX(Sheet1!$D$2:$Z$61,,Sheet2!$B10)))) | H10: =IF(AND(H9="",I10=""),"",IF(CORREL(Sheet1!I$2:I$61,INDEX(Sheet1!$D$2:$Z$61,,Sheet2!$B10))=1,"",CORREL(Sheet1!I$2:I$61,INDEX(Sheet1!$D$2:$Z$61,,Sheet2!$B10)))) | I10: =IF(AND(I9="",J10=""),"",IF(CORREL(Sheet1!J$2:J$61,INDEX(Sheet1!$D$2:$Z$61,,Sheet2!$B10))=1,"",CORREL(Sheet1!J$2:J$61,INDEX(Sheet1!$D$2:$Z$61,,Sheet2!$B10)))) | J10: =IF(AND(J9="",K10=""),"",IF(CORREL(Sheet1!K$2:K$61,INDEX(Sheet1!$D$2:$Z$61,,Sheet2!$B10))=1,"",CORREL(Sheet1!K$2:K$61,INDEX(Sheet1!$D$2:$Z$61,,Sheet2!$B10)))) | ... Y10: =IF(AND(Y9="",Z10=""),"",IF(CORREL(Sheet1!Z$2:Z$61,INDEX(Sheet1!$D$2:$Z$61,,Sheet2!$B10))=1,"",CORREL(Sheet1!Z$2:Z$61,INDEX(Sheet1!$D$2:$Z$61,,Sheet2!$B10)))) -> 0.52513273
A11: Food Science | B11: 9 | C11: =IF(AND(C10="",D11=""),"",IF(CORREL(Sheet1!D$2:D$61,INDEX(Sheet1!$D$2:$Z$61,,Sheet2!$B11))=1,"",CORREL(Sheet1!D$2:D$61,INDEX(Sheet1!$D$2:$Z$61,,Sheet2!$B11)))) | D11: =IF(AND(D10="",E11=""),"",IF(CORREL(Sheet1!E$2:E$61,INDEX(Sheet1!$D$2:$Z$61,,Sheet2!$B11))=1,"",CORREL(Sheet1!E$2:E$61,INDEX(Sheet1!$D$2:$Z$61,,Sheet2!$B11)))) | E11: =IF(AND(E10="",F11=""),"",IF(CORREL(Sheet1!F$2:F$61,INDEX(Sheet1!$D$2:$Z$61,,Sheet2!$B11))=1,"",CORREL(Sheet1!F$2:F$61,INDEX(Sheet1!$D$2:$Z$61,,Sheet2!$B11)))) | F11: =IF(AND(F10="",G11=""),"",IF(CORREL(Sheet1!G$2:G$61,INDEX(Sheet1!$D$2:$Z$61,,Sheet2!$B11))=1,"",CORREL(Sheet1!G$2:G$61,INDEX(Sheet1!$D$2:$Z$61,,Sheet2!$B11)))) | G11: =IF(AND(G10="",H11=""),"",IF(CORREL(Sheet1!H$2:H$61,INDEX(Sheet1!$D$2:$Z$61,,Sheet2!$B11))=1,"",CORREL(Sheet1!H$2:H$61,INDEX(Sheet1!$D$2:$Z$61,,Sheet2!$B11)))) | H11: =IF(AND(H10="",I11=""),"",IF(CORREL(Sheet1!I$2:I$61,INDEX(Sheet1!$D$2:$Z$61,,Sheet2!$B11))=1,"",CORREL(Sheet1!I$2:I$61,INDEX(Sheet1!$D$2:$Z$61,,Sheet2!$B11)))) | I11: =IF(AND(I10="",J11=""),"",IF(CORREL(Sheet1!J$2:J$61,INDEX(Sheet1!$D$2:$Z$61,,Sheet2!$B11))=1,"",CORREL(Sheet1!J$2:J$61,INDEX(Sheet1!$D$2:$Z$61,,Sheet2!$B11)))) | J11: =IF(AND(J10="",K11=""),"",IF(CORREL(Sheet1!K$2:K$61,INDEX(Sheet1!$D$2:$Z$61,,Sheet2!$B11))=1,"",CORREL(Sheet1!K$2:K$61,INDEX(Sheet1!$D$2:$Z$61,,Sheet2!$B11)))) | ... Y11: =IF(AND(Y10="",Z11=""),"",IF(CORREL(Sheet1!Z$2:Z$61,INDEX(Sheet1!$D$2:$Z$61,,Sheet2!$B11))=1,"",CORREL(Sheet1!Z$2:Z$61,INDEX(Sheet1!$D$2:$Z$61,,Sheet2!$B11)))) -> 0.40335719
A12: Hovercraft | B12: 10 | C12: =IF(AND(C11="",D12=""),"",IF(CORREL(Sheet1!D$2:D$61,INDEX(Sheet1!$D$2:$Z$61,,Sheet2!$B12))=1,"",CORREL(Sheet1!D$2:D$61,INDEX(Sheet1!$D$2:$Z$61,,Sheet2!$B12)))) | D12: =IF(AND(D11="",E12=""),"",IF(CORREL(Sheet1!E$2:E$61,INDEX(Sheet1!$D$2:$Z$61,,Sheet2!$B12))=1,"",CORREL(Sheet1!E$2:E$61,INDEX(Sheet1!$D$2:$Z$61,,Sheet2!$B12)))) | E12: =IF(AND(E11="",F12=""),"",IF(CORREL(Sheet1!F$2:F$61,INDEX(Sheet1!$D$2:$Z$61,,Sheet2!$B12))=1,"",CORREL(Sheet1!F$2:F$61,INDEX(Sheet1!$D$2:$Z$61,,Sheet2!$B12)))) | F12: =IF(AND(F11="",G12=""),"",IF(CORREL(Sheet1!G$2:G$61,INDEX(Sheet1!$D$2:$Z$61,,Sheet2!$B12))=1,"",CORREL(Sheet1!G$2:G$61,INDEX(Sheet1!$D$2:$Z$61,,Sheet2!$B12)))) | G12: =IF(AND(G11="",H12=""),"",IF(CORREL(Sheet1!H$2:H$61,INDEX(Sheet1!$D$2:$Z$61,,Sheet2!$B12))=1,"",CORREL(Sheet1!H$2:H$61,INDEX(Sheet1!$D$2:$Z$61,,Sheet2!$B12)))) | H12: =IF(AND(H11="",I12=""),"",IF(CORREL(Sheet1!I$2:I$61,INDEX(Sheet1!$D$2:$Z$61,,Sheet2!$B12))=1,"",CORREL(Sheet1!I$2:I$61,INDEX(Sheet1!$D$2:$Z$61,,Sheet2!$B12)))) | I12: =IF(AND(I11="",J12=""),"",IF(CORREL(Sheet1!J$2:J$61,INDEX(Sheet1!$D$2:$Z$61,,Sheet2!$B12))=1,"",CORREL(Sheet1!J$2:J$61,INDEX(Sheet1!$D$2:$Z$61,,Sheet2!$B12)))) | J12: =IF(AND(J11="",K12=""),"",IF(CORREL(Sheet1!K$2:K$61,INDEX(Sheet1!$D$2:$Z$61,,Sheet2!$B12))=1,"",CORREL(Sheet1!K$2:K$61,INDEX(Sheet1!$D$2:$Z$61,,Sheet2!$B12)))) | ... Y12: =IF(AND(Y11="",Z12=""),"",IF(CORREL(Sheet1!Z$2:Z$61,INDEX(Sheet1!$D$2:$Z$61,,Sheet2!$B12))=1,"",CORREL(Sheet1!Z$2:Z$61,INDEX(Sheet1!$D$2:$Z$61,,Sheet2!$B12)))) -> 0.37461928
A13: Invasive Species | B13: 11 | C13: =IF(AND(C12="",D13=""),"",IF(CORREL(Sheet1!D$2:D$61,INDEX(Sheet1!$D$2:$Z$61,,Sheet2!$B13))=1,"",CORREL(Sheet1!D$2:D$61,INDEX(Sheet1!$D$2:$Z$61,,Sheet2!$B13)))) | D13: =IF(AND(D12="",E13=""),"",IF(CORREL(Sheet1!E$2:E$61,INDEX(Sheet1!$D$2:$Z$61,,Sheet2!$B13))=1,"",CORREL(Sheet1!E$2:E$61,INDEX(Sheet1!$D$2:$Z$61,,Sheet2!$B13)))) | E13: =IF(AND(E12="",F13=""),"",IF(CORREL(Sheet1!F$2:F$61,INDEX(Sheet1!$D$2:$Z$61,,Sheet2!$B13))=1,"",CORREL(Sheet1!F$2:F$61,INDEX(Sheet1!$D$2:$Z$61,,Sheet2!$B13)))) | F13: =IF(AND(F12="",G13=""),"",IF(CORREL(Sheet1!G$2:G$61,INDEX(Sheet1!$D$2:$Z$61,,Sheet2!$B13))=1,"",CORREL(Sheet1!G$2:G$61,INDEX(Sheet1!$D$2:$Z$61,,Sheet2!$B13)))) | G13: =IF(AND(G12="",H13=""),"",IF(CORREL(Sheet1!H$2:H$61,INDEX(Sheet1!$D$2:$Z$61,,Sheet2!$B13))=1,"",CORREL(Sheet1!H$2:H$61,INDEX(Sheet1!$D$2:$Z$61,,Sheet2!$B13)))) | H13: =IF(AND(H12="",I13=""),"",IF(CORREL(Sheet1!I$2:I$61,INDEX(Sheet1!$D$2:$Z$61,,Sheet2!$B13))=1,"",CORREL(Sheet1!I$2:I$61,INDEX(Sheet1!$D$2:$Z$61,,Sheet2!$B13)))) | I13: =IF(AND(I12="",J13=""),"",IF(CORREL(Sheet1!J$2:J$61,INDEX(Sheet1!$D$2:$Z$61,,Sheet2!$B13))=1,"",CORREL(Sheet1!J$2:J$61,INDEX(Sheet1!$D$2:$Z$61,,Sheet2!$B13)))) | J13: =IF(AND(J12="",K13=""),"",IF(CORREL(Sheet1!K$2:K$61,INDEX(Sheet1!$D$2:$Z$61,,Sheet2!$B13))=1,"",CORREL(Sheet1!K$2:K$61,INDEX(Sheet1!$D$2:$Z$61,,Sheet2!$B13)))) | ... Y13: =IF(AND(Y12="",Z13=""),"",IF(CORREL(Sheet1!Z$2:Z$61,INDEX(Sheet1!$D$2:$Z$61,,Sheet2!$B13))=1,"",CORREL(Sheet1!Z$2:Z$61,INDEX(Sheet1!$D$2:$Z$61,,Sheet2!$B13)))) -> 0.44208126
A14: Meteorology | B14: 12 | C14: =IF(AND(C13="",D14=""),"",IF(CORREL(Sheet1!D$2:D$61,INDEX(Sheet1!$D$2:$Z$61,,Sheet2!$B14))=1,"",CORREL(Sheet1!D$2:D$61,INDEX(Sheet1!$D$2:$Z$61,,Sheet2!$B14)))) | D14: =IF(AND(D13="",E14=""),"",IF(CORREL(Sheet1!E$2:E$61,INDEX(Sheet1!$D$2:$Z$61,,Sheet2!$B14))=1,"",CORREL(Sheet1!E$2:E$61,INDEX(Sheet1!$D$2:$Z$61,,Sheet2!$B14)))) | E14: =IF(AND(E13="",F14=""),"",IF(CORREL(Sheet1!F$2:F$61,INDEX(Sheet1!$D$2:$Z$61,,Sheet2!$B14))=1,"",CORREL(Sheet1!F$2:F$61,INDEX(Sheet1!$D$2:$Z$61,,Sheet2!$B14)))) | F14: =IF(AND(F13="",G14=""),"",IF(CORREL(Sheet1!G$2:G$61,INDEX(Sheet1!$D$2:$Z$61,,Sheet2!$B14))=1,"",CORREL(Sheet1!G$2:G$61,INDEX(Sheet1!$D$2:$Z$61,,Sheet2!$B14)))) | G14: =IF(AND(G13="",H14=""),"",IF(CORREL(Sheet1!H$2:H$61,INDEX(Sheet1!$D$2:$Z$61,,Sheet2!$B14))=1,"",CORREL(Sheet1!H$2:H$61,INDEX(Sheet1!$D$2:$Z$61,,Sheet2!$B14)))) | H14: =IF(AND(H13="",I14=""),"",IF(CORREL(Sheet1!I$2:I$61,INDEX(Sheet1!$D$2:$Z$61,,Sheet2!$B14))=1,"",CORREL(Sheet1!I$2:I$61,INDEX(Sheet1!$D$2:$Z$61,,Sheet2!$B14)))) | I14: =IF(AND(I13="",J14=""),"",IF(CORREL(Sheet1!J$2:J$61,INDEX(Sheet1!$D$2:$Z$61,,Sheet2!$B14))=1,"",CORREL(Sheet1!J$2:J$61,INDEX(Sheet1!$D$2:$Z$61,,Sheet2!$B14)))) | J14: =IF(AND(J13="",K14=""),"",IF(CORREL(Sheet1!K$2:K$61,INDEX(Sheet1!$D$2:$Z$61,,Sheet2!$B14))=1,"",CORREL(Sheet1!K$2:K$61,INDEX(Sheet1!$D$2:$Z$61,,Sheet2!$B14)))) | ... Y14: =IF(AND(Y13="",Z14=""),"",IF(CORREL(Sheet1!Z$2:Z$61,INDEX(Sheet1!$D$2:$Z$61,,Sheet2!$B14))=1,"",CORREL(Sheet1!Z$2:Z$61,INDEX(Sheet1!$D$2:$Z$61,,Sheet2!$B14)))) -> 0.37922956
... A25: Write It Do It | B25: 23 | C25: =IF(AND(C24="",D25=""),"",IF(CORREL(Sheet1!D$2:D$61,INDEX(Sheet1!$D$2:$Z$61,,Sheet2!$B25))=1,"",CORREL(Sheet1!D$2:D$61,INDEX(Sheet1!$D$2:$Z$61,,Sheet2!$B25)))) | D25: =IF(AND(D24="",E25=""),"",IF(CORREL(Sheet1!E$2:E$61,INDEX(Sheet1!$D$2:$Z$61,,Sheet2!$B25))=1,"",CORREL(Sheet1!E$2:E$61,INDEX(Sheet1!$D$2:$Z$61,,Sheet2!$B25)))) | E25: =IF(AND(E24="",F25=""),"",IF(CORREL(Sheet1!F$2:F$61,INDEX(Sheet1!$D$2:$Z$61,,Sheet2!$B25))=1,"",CORREL(Sheet1!F$2:F$61,INDEX(Sheet1!$D$2:$Z$61,,Sheet2!$B25)))) | F25: =IF(AND(F24="",G25=""),"",IF(CORREL(Sheet1!G$2:G$61,INDEX(Sheet1!$D$2:$Z$61,,Sheet2!$B25))=1,"",CORREL(Sheet1!G$2:G$61,INDEX(Sheet1!$D$2:$Z$61,,Sheet2!$B25)))) | G25: =IF(AND(G24="",H25=""),"",IF(CORREL(Sheet1!H$2:H$61,INDEX(Sheet1!$D$2:$Z$61,,Sheet2!$B25))=1,"",CORREL(Sheet1!H$2:H$61,INDEX(Sheet1!$D$2:$Z$61,,Sheet2!$B25)))) | H25: =IF(AND(H24="",I25=""),"",IF(CORREL(Sheet1!I$2:I$61,INDEX(Sheet1!$D$2:$Z$61,,Sheet2!$B25))=1,"",CORREL(Sheet1!I$2:I$61,INDEX(Sheet1!$D$2:$Z$61,,Sheet2!$B25)))) | I25: =IF(AND(I24="",J25=""),"",IF(CORREL(Sheet1!J$2:J$61,INDEX(Sheet1!$D$2:$Z$61,,Sheet2!$B25))=1,"",CORREL(Sheet1!J$2:J$61,INDEX(Sheet1!$D$2:$Z$61,,Sheet2!$B25)))) | J25: =IF(AND(J24="",K25=""),"",IF(CORREL(Sheet1!K$2:K$61,INDEX(Sheet1!$D$2:$Z$61,,Sheet2!$B25))=1,"",CORREL(Sheet1!K$2:K$61,INDEX(Sheet1!$D$2:$Z$61,,Sheet2!$B25)))) | ... Y25: =IF(AND(Y24="",Z25=""),"",IF(CORREL(Sheet1!Z$2:Z$61,INDEX(Sheet1!$D$2:$Z$61,,Sheet2!$B25))=1,"",CORREL(Sheet1!Z$2:Z$61,INDEX(Sheet1!$D$2:$Z$61,,Sheet2!$B25))))
C26: Anatomy & Physiology | D26: Astronomy | E26: Chemistry Lab | F26: Disease Detectives | G26: Dynamic Planet | H26: Ecology | I26: Electric Vehicle | J26: Experimental Design | K26: Forensics | L26: Game On | M26: Helicopters | N26: Hovercraft | O26: Hydrogeology | P26: Invasive Species | Q26: Materials Science | R26: Microbe Mission | S26: Optics | T26: Remote Sensing | U26: Robot Arm | V26: Rocks and Minerals | W26: Towers | X26: Wind Power | Y26: Write It Do It
B27: C | C27: 1 | D27: 2 | E27: 3 | F27: 4 | G27: 5 | H27: 6 | I27: 7 | J27: 8 | K27: 9 | L27: 10 | M27: 11 | N27: 12 | O27: 13 | P27: 14 | Q27: 15 | R27: 16 | S27: 17 | T27: 18 | U27: 19 | V27: 20 | W27: 21 | X27: 22 | Y27: 23
A28: Anatomy & Physiology | B28: 1 | C28: =IF(AND(C27="",D28=""),"",IF(CORREL(Sheet1!D$64:D$123,INDEX(Sheet1!$D$64:$Z$123,,Sheet2!$B28))=1,"",CORREL(Sheet1!D$64:D$123,INDEX(Sheet1!$D$64:$Z$123,,Sheet2!$B28)))) | D28: =IF(AND(D27="",E28=""),"",IF(CORREL(Sheet1!E$64:E$123,INDEX(Sheet1!$D$64:$Z$123,,Sheet2!$B28))=1,"",CORREL(Sheet1!E$64:E$123,INDEX(Sheet1!$D$64:$Z$123,,Sheet2!$B28)))) -> 0.6479022 | E28: =IF(AND(E27="",F28=""),"",IF(CORREL(Sheet1!F$64:F$123,INDEX(Sheet1!$D$64:$Z$123,,Sheet2!$B28))=1,"",CORREL(Sheet1!F$64:F$123,INDEX(Sheet1!$D$64:$Z$123,,Sheet2!$B28)))) -> 0.63117533 | F28: =IF(AND(F27="",G28=""),"",IF(CORREL(Sheet1!G$64:G$123,INDEX(Sheet1!$D$64:$Z$123,,Sheet2!$B28))=1,"",CORREL(Sheet1!G$64:G$123,INDEX(Sheet1!$D$64:$Z$123,,Sheet2!$B28)))) -> 0.59938872 | G28: =IF(AND(G27="",H28=""),"",IF(CORREL(Sheet1!H$64:H$123,INDEX(Sheet1!$D$64:$Z$123,,Sheet2!$B28))=1,"",CORREL(Sheet1!H$64:H$123,INDEX(Sheet1!$D$64:$Z$123,,Sheet2!$B28)))) -> 0.69813837 | H28: =IF(AND(H27="",I28=""),"",IF(CORREL(Sheet1!I$64:I$123,INDEX(Sheet1!$D$64:$Z$123,,Sheet2!$B28))=1,"",CORREL(Sheet1!I$64:I$123,INDEX(Sheet1!$D$64:$Z$123,,Sheet2!$B28)))) -> 0.4744719 | I28: =IF(AND(I27="",J28=""),"",IF(CORREL(Sheet1!J$64:J$123,INDEX(Sheet1!$D$64:$Z$123,,Sheet2!$B28))=1,"",CORREL(Sheet1!J$64:J$123,INDEX(Sheet1!$D$64:$Z$123,,Sheet2!$B28)))) -> 0.54867437 | J28: =IF(AND(J27="",K28=""),"",IF(CORREL(Sheet1!K$64:K$123,INDEX(Sheet1!$D$64:$Z$123,,Sheet2!$B28))=1,"",CORREL(Sheet1!K$64:K$123,INDEX(Sheet1!$D$64:$Z$123,,Sheet2!$B28)))) -> 0.57304807 | ... Y28: =IF(AND(Y27="",Z28=""),"",IF(CORREL(Sheet1!Z$64:Z$123,INDEX(Sheet1!$D$64:$Z$123,,Sheet2!$B28))=1,"",CORREL(Sheet1!Z$64:Z$123,INDEX(Sheet1!$D$64:$Z$123,,Sheet2!$B28)))) -> 0.36093359
A29: Astronomy | B29: 2 | C29: =IF(AND(C28="",D29=""),"",IF(CORREL(Sheet1!D$64:D$123,INDEX(Sheet1!$D$64:$Z$123,,Sheet2!$B29))=1,"",CORREL(Sheet1!D$64:D$123,INDEX(Sheet1!$D$64:$Z$123,,Sheet2!$B29)))) | D29: =IF(AND(D28="",E29=""),"",IF(CORREL(Sheet1!E$64:E$123,INDEX(Sheet1!$D$64:$Z$123,,Sheet2!$B29))=1,"",CORREL(Sheet1!E$64:E$123,INDEX(Sheet1!$D$64:$Z$123,,Sheet2!$B29)))) | E29: =IF(AND(E28="",F29=""),"",IF(CORREL(Sheet1!F$64:F$123,INDEX(Sheet1!$D$64:$Z$123,,Sheet2!$B29))=1,"",CORREL(Sheet1!F$64:F$123,INDEX(Sheet1!$D$64:$Z$123,,Sheet2!$B29)))) -> 0.61161434 | F29: =IF(AND(F28="",G29=""),"",IF(CORREL(Sheet1!G$64:G$123,INDEX(Sheet1!$D$64:$Z$123,,Sheet2!$B29))=1,"",CORREL(Sheet1!G$64:G$123,INDEX(Sheet1!$D$64:$Z$123,,Sheet2!$B29)))) -> 0.56926924 | G29: =IF(AND(G28="",H29=""),"",IF(CORREL(Sheet1!H$64:H$123,INDEX(Sheet1!$D$64:$Z$123,,Sheet2!$B29))=1,"",CORREL(Sheet1!H$64:H$123,INDEX(Sheet1!$D$64:$Z$123,,Sheet2!$B29)))) -> 0.6350653 | H29: =IF(AND(H28="",I29=""),"",IF(CORREL(Sheet1!I$64:I$123,INDEX(Sheet1!$D$64:$Z$123,,Sheet2!$B29))=1,"",CORREL(Sheet1!I$64:I$123,INDEX(Sheet1!$D$64:$Z$123,,Sheet2!$B29)))) -> 0.41183297 | I29: =IF(AND(I28="",J29=""),"",IF(CORREL(Sheet1!J$64:J$123,INDEX(Sheet1!$D$64:$Z$123,,Sheet2!$B29))=1,"",CORREL(Sheet1!J$64:J$123,INDEX(Sheet1!$D$64:$Z$123,,Sheet2!$B29)))) -> 0.34530177 | J29: =IF(AND(J28="",K29=""),"",IF(CORREL(Sheet1!K$64:K$123,INDEX(Sheet1!$D$64:$Z$123,,Sheet2!$B29))=1,"",CORREL(Sheet1!K$64:K$123,INDEX(Sheet1!$D$64:$Z$123,,Sheet2!$B29)))) -> 0.48246735 | ... Y29: =IF(AND(Y28="",Z29=""),"",IF(CORREL(Sheet1!Z$64:Z$123,INDEX(Sheet1!$D$64:$Z$123,,Sheet2!$B29))=1,"",CORREL(Sheet1!Z$64:Z$123,INDEX(Sheet1!$D$64:$Z$123,,Sheet2!$B29)))) -> 0.37910531
A30: Chemistry Lab | B30: 3 | C30: =IF(AND(C29="",D30=""),"",IF(CORREL(Sheet1!D$64:D$123,INDEX(Sheet1!$D$64:$Z$123,,Sheet2!$B30))=1,"",CORREL(Sheet1!D$64:D$123,INDEX(Sheet1!$D$64:$Z$123,,Sheet2!$B30)))) | D30: =IF(AND(D29="",E30=""),"",IF(CORREL(Sheet1!E$64:E$123,INDEX(Sheet1!$D$64:$Z$123,,Sheet2!$B30))=1,"",CORREL(Sheet1!E$64:E$123,INDEX(Sheet1!$D$64:$Z$123,,Sheet2!$B30)))) | E30: =IF(AND(E29="",F30=""),"",IF(CORREL(Sheet1!F$64:F$123,INDEX(Sheet1!$D$64:$Z$123,,Sheet2!$B30))=1,"",CORREL(Sheet1!F$64:F$123,INDEX(Sheet1!$D$64:$Z$123,,Sheet2!$B30)))) | F30: =IF(AND(F29="",G30=""),"",IF(CORREL(Sheet1!G$64:G$123,INDEX(Sheet1!$D$64:$Z$123,,Sheet2!$B30))=1,"",CORREL(Sheet1!G$64:G$123,INDEX(Sheet1!$D$64:$Z$123,,Sheet2!$B30)))) -> 0.53931648 | G30: =IF(AND(G29="",H30=""),"",IF(CORREL(Sheet1!H$64:H$123,INDEX(Sheet1!$D$64:$Z$123,,Sheet2!$B30))=1,"",CORREL(Sheet1!H$64:H$123,INDEX(Sheet1!$D$64:$Z$123,,Sheet2!$B30)))) -> 0.62934148 | H30: =IF(AND(H29="",I30=""),"",IF(CORREL(Sheet1!I$64:I$123,INDEX(Sheet1!$D$64:$Z$123,,Sheet2!$B30))=1,"",CORREL(Sheet1!I$64:I$123,INDEX(Sheet1!$D$64:$Z$123,,Sheet2!$B30)))) -> 0.54608299 | I30: =IF(AND(I29="",J30=""),"",IF(CORREL(Sheet1!J$64:J$123,INDEX(Sheet1!$D$64:$Z$123,,Sheet2!$B30))=1,"",CORREL(Sheet1!J$64:J$123,INDEX(Sheet1!$D$64:$Z$123,,Sheet2!$B30)))) -> 0.3403841 | J30: =IF(AND(J29="",K30=""),"",IF(CORREL(Sheet1!K$64:K$123,INDEX(Sheet1!$D$64:$Z$123,,Sheet2!$B30))=1,"",CORREL(Sheet1!K$64:K$123,INDEX(Sheet1!$D$64:$Z$123,,Sheet2!$B30)))) -> 0.54898583 | ... Y30: =IF(AND(Y29="",Z30=""),"",IF(CORREL(Sheet1!Z$64:Z$123,INDEX(Sheet1!$D$64:$Z$123,,Sheet2!$B30))=1,"",CORREL(Sheet1!Z$64:Z$123,INDEX(Sheet1!$D$64:$Z$123,,Sheet2!$B30)))) -> 0.25657127
A31: Disease Detectives | B31: 4 | C31: =IF(AND(C30="",D31=""),"",IF(CORREL(Sheet1!D$64:D$123,INDEX(Sheet1!$D$64:$Z$123,,Sheet2!$B31))=1,"",CORREL(Sheet1!D$64:D$123,INDEX(Sheet1!$D$64:$Z$123,,Sheet2!$B31)))) | D31: =IF(AND(D30="",E31=""),"",IF(CORREL(Sheet1!E$64:E$123,INDEX(Sheet1!$D$64:$Z$123,,Sheet2!$B31))=1,"",CORREL(Sheet1!E$64:E$123,INDEX(Sheet1!$D$64:$Z$123,,Sheet2!$B31)))) | E31: =IF(AND(E30="",F31=""),"",IF(CORREL(Sheet1!F$64:F$123,INDEX(Sheet1!$D$64:$Z$123,,Sheet2!$B31))=1,"",CORREL(Sheet1!F$64:F$123,INDEX(Sheet1!$D$64:$Z$123,,Sheet2!$B31)))) | F31: =IF(AND(F30="",G31=""),"",IF(CORREL(Sheet1!G$64:G$123,INDEX(Sheet1!$D$64:$Z$123,,Sheet2!$B31))=1,"",CORREL(Sheet1!G$64:G$123,INDEX(Sheet1!$D$64:$Z$123,,Sheet2!$B31)))) | G31: =IF(AND(G30="",H31=""),"",IF(CORREL(Sheet1!H$64:H$123,INDEX(Sheet1!$D$64:$Z$123,,Sheet2!$B31))=1,"",CORREL(Sheet1!H$64:H$123,INDEX(Sheet1!$D$64:$Z$123,,Sheet2!$B31)))) -> 0.62045013 | H31: =IF(AND(H30="",I31=""),"",IF(CORREL(Sheet1!I$64:I$123,INDEX(Sheet1!$D$64:$Z$123,,Sheet2!$B31))=1,"",CORREL(Sheet1!I$64:I$123,INDEX(Sheet1!$D$64:$Z$123,,Sheet2!$B31)))) -> 0.57731938 | I31: =IF(AND(I30="",J31=""),"",IF(CORREL(Sheet1!J$64:J$123,INDEX(Sheet1!$D$64:$Z$123,,Sheet2!$B31))=1,"",CORREL(Sheet1!J$64:J$123,INDEX(Sheet1!$D$64:$Z$123,,Sheet2!$B31)))) -> 0.48234059 | J31: =IF(AND(J30="",K31=""),"",IF(CORREL(Sheet1!K$64:K$123,INDEX(Sheet1!$D$64:$Z$123,,Sheet2!$B31))=1,"",CORREL(Sheet1!K$64:K$123,INDEX(Sheet1!$D$64:$Z$123,,Sheet2!$B31)))) -> 0.46596277 | ... Y31: =IF(AND(Y30="",Z31=""),"",IF(CORREL(Sheet1!Z$64:Z$123,INDEX(Sheet1!$D$64:$Z$123,,Sheet2!$B31))=1,"",CORREL(Sheet1!Z$64:Z$123,INDEX(Sheet1!$D$64:$Z$123,,Sheet2!$B31)))) -> 0.15554321
A32: Dynamic Planet | B32: 5 | C32: =IF(AND(C31="",D32=""),"",IF(CORREL(Sheet1!D$64:D$123,INDEX(Sheet1!$D$64:$Z$123,,Sheet2!$B32))=1,"",CORREL(Sheet1!D$64:D$123,INDEX(Sheet1!$D$64:$Z$123,,Sheet2!$B32)))) | D32: =IF(AND(D31="",E32=""),"",IF(CORREL(Sheet1!E$64:E$123,INDEX(Sheet1!$D$64:$Z$123,,Sheet2!$B32))=1,"",CORREL(Sheet1!E$64:E$123,INDEX(Sheet1!$D$64:$Z$123,,Sheet2!$B32)))) | E32: =IF(AND(E31="",F32=""),"",IF(CORREL(Sheet1!F$64:F$123,INDEX(Sheet1!$D$64:$Z$123,,Sheet2!$B32))=1,"",CORREL(Sheet1!F$64:F$123,INDEX(Sheet1!$D$64:$Z$123,,Sheet2!$B32)))) | F32: =IF(AND(F31="",G32=""),"",IF(CORREL(Sheet1!G$64:G$123,INDEX(Sheet1!$D$64:$Z$123,,Sheet2!$B32))=1,"",CORREL(Sheet1!G$64:G$123,INDEX(Sheet1!$D$64:$Z$123,,Sheet2!$B32)))) | G32: =IF(AND(G31="",H32=""),"",IF(CORREL(Sheet1!H$64:H$123,INDEX(Sheet1!$D$64:$Z$123,,Sheet2!$B32))=1,"",CORREL(Sheet1!H$64:H$123,INDEX(Sheet1!$D$64:$Z$123,,Sheet2!$B32)))) | H32: =IF(AND(H31="",I32=""),"",IF(CORREL(Sheet1!I$64:I$123,INDEX(Sheet1!$D$64:$Z$123,,Sheet2!$B32))=1,"",CORREL(Sheet1!I$64:I$123,INDEX(Sheet1!$D$64:$Z$123,,Sheet2!$B32)))) -> 0.43653409 | I32: =IF(AND(I31="",J32=""),"",IF(CORREL(Sheet1!J$64:J$123,INDEX(Sheet1!$D$64:$Z$123,,Sheet2!$B32))=1,"",CORREL(Sheet1!J$64:J$123,INDEX(Sheet1!$D$64:$Z$123,,Sheet2!$B32)))) -> 0.46469165 | J32: =IF(AND(J31="",K32=""),"",IF(CORREL(Sheet1!K$64:K$123,INDEX(Sheet1!$D$64:$Z$123,,Sheet2!$B32))=1,"",CORREL(Sheet1!K$64:K$123,INDEX(Sheet1!$D$64:$Z$123,,Sheet2!$B32)))) -> 0.55932203 | ... Y32: =IF(AND(Y31="",Z32=""),"",IF(CORREL(Sheet1!Z$64:Z$123,INDEX(Sheet1!$D$64:$Z$123,,Sheet2!$B32))=1,"",CORREL(Sheet1!Z$64:Z$123,INDEX(Sheet1!$D$64:$Z$123,,Sheet2!$B32)))) -> 0.29169214
A33: Ecology | B33: 6 | C33: =IF(AND(C32="",D33=""),"",IF(CORREL(Sheet1!D$64:D$123,INDEX(Sheet1!$D$64:$Z$123,,Sheet2!$B33))=1,"",CORREL(Sheet1!D$64:D$123,INDEX(Sheet1!$D$64:$Z$123,,Sheet2!$B33)))) | D33: =IF(AND(D32="",E33=""),"",IF(CORREL(Sheet1!E$64:E$123,INDEX(Sheet1!$D$64:$Z$123,,Sheet2!$B33))=1,"",CORREL(Sheet1!E$64:E$123,INDEX(Sheet1!$D$64:$Z$123,,Sheet2!$B33)))) | E33: =IF(AND(E32="",F33=""),"",IF(CORREL(Sheet1!F$64:F$123,INDEX(Sheet1!$D$64:$Z$123,,Sheet2!$B33))=1,"",CORREL(Sheet1!F$64:F$123,INDEX(Sheet1!$D$64:$Z$123,,Sheet2!$B33)))) | F33: =IF(AND(F32="",G33=""),"",IF(CORREL(Sheet1!G$64:G$123,INDEX(Sheet1!$D$64:$Z$123,,Sheet2!$B33))=1,"",CORREL(Sheet1!G$64:G$123,INDEX(Sheet1!$D$64:$Z$123,,Sheet2!$B33)))) | G33: =IF(AND(G32="",H33=""),"",IF(CORREL(Sheet1!H$64:H$123,INDEX(Sheet1!$D$64:$Z$123,,Sheet2!$B33))=1,"",CORREL(Sheet1!H$64:H$123,INDEX(Sheet1!$D$64:$Z$123,,Sheet2!$B33)))) | H33: =IF(AND(H32="",I33=""),"",IF(CORREL(Sheet1!I$64:I$123,INDEX(Sheet1!$D$64:$Z$123,,Sheet2!$B33))=1,"",CORREL(Sheet1!I$64:I$123,INDEX(Sheet1!$D$64:$Z$123,,Sheet2!$B33)))) | I33: =IF(AND(I32="",J33=""),"",IF(CORREL(Sheet1!J$64:J$123,INDEX(Sheet1!$D$64:$Z$123,,Sheet2!$B33))=1,"",CORREL(Sheet1!J$64:J$123,INDEX(Sheet1!$D$64:$Z$123,,Sheet2!$B33)))) -> 0.28269091 | J33: =IF(AND(J32="",K33=""),"",IF(CORREL(Sheet1!K$64:K$123,INDEX(Sheet1!$D$64:$Z$123,,Sheet2!$B33))=1,"",CORREL(Sheet1!K$64:K$123,INDEX(Sheet1!$D$64:$Z$123,,Sheet2!$B33)))) -> 0.3567816 | ... Y33: =IF(AND(Y32="",Z33=""),"",IF(CORREL(Sheet1!Z$64:Z$123,INDEX(Sheet1!$D$64:$Z$123,,Sheet2!$B33))=1,"",CORREL(Sheet1!Z$64:Z$123,INDEX(Sheet1!$D$64:$Z$123,,Sheet2!$B33)))) -> 0.19035367
A34: Electric Vehicle | B34: 7 | C34: =IF(AND(C33="",D34=""),"",IF(CORREL(Sheet1!D$64:D$123,INDEX(Sheet1!$D$64:$Z$123,,Sheet2!$B34))=1,"",CORREL(Sheet1!D$64:D$123,INDEX(Sheet1!$D$64:$Z$123,,Sheet2!$B34)))) | D34: =IF(AND(D33="",E34=""),"",IF(CORREL(Sheet1!E$64:E$123,INDEX(Sheet1!$D$64:$Z$123,,Sheet2!$B34))=1,"",CORREL(Sheet1!E$64:E$123,INDEX(Sheet1!$D$64:$Z$123,,Sheet2!$B34)))) | E34: =IF(AND(E33="",F34=""),"",IF(CORREL(Sheet1!F$64:F$123,INDEX(Sheet1!$D$64:$Z$123,,Sheet2!$B34))=1,"",CORREL(Sheet1!F$64:F$123,INDEX(Sheet1!$D$64:$Z$123,,Sheet2!$B34)))) | F34: =IF(AND(F33="",G34=""),"",IF(CORREL(Sheet1!G$64:G$123,INDEX(Sheet1!$D$64:$Z$123,,Sheet2!$B34))=1,"",CORREL(Sheet1!G$64:G$123,INDEX(Sheet1!$D$64:$Z$123,,Sheet2!$B34)))) | G34: =IF(AND(G33="",H34=""),"",IF(CORREL(Sheet1!H$64:H$123,INDEX(Sheet1!$D$64:$Z$123,,Sheet2!$B34))=1,"",CORREL(Sheet1!H$64:H$123,INDEX(Sheet1!$D$64:$Z$123,,Sheet2!$B34)))) | H34: =IF(AND(H33="",I34=""),"",IF(CORREL(Sheet1!I$64:I$123,INDEX(Sheet1!$D$64:$Z$123,,Sheet2!$B34))=1,"",CORREL(Sheet1!I$64:I$123,INDEX(Sheet1!$D$64:$Z$123,,Sheet2!$B34)))) | I34: =IF(AND(I33="",J34=""),"",IF(CORREL(Sheet1!J$64:J$123,INDEX(Sheet1!$D$64:$Z$123,,Sheet2!$B34))=1,"",CORREL(Sheet1!J$64:J$123,INDEX(Sheet1!$D$64:$Z$123,,Sheet2!$B34)))) | J34: =IF(AND(J33="",K34=""),"",IF(CORREL(Sheet1!K$64:K$123,INDEX(Sheet1!$D$64:$Z$123,,Sheet2!$B34))=1,"",CORREL(Sheet1!K$64:K$123,INDEX(Sheet1!$D$64:$Z$123,,Sheet2!$B34)))) -> 0.27749268 | ... Y34: =IF(AND(Y33="",Z34=""),"",IF(CORREL(Sheet1!Z$64:Z$123,INDEX(Sheet1!$D$64:$Z$123,,Sheet2!$B34))=1,"",CORREL(Sheet1!Z$64:Z$123,INDEX(Sheet1!$D$64:$Z$123,,Sheet2!$B34)))) -> 0.21563944
A35: Experimental Design | B35: 8 | C35: =IF(AND(C34="",D35=""),"",IF(CORREL(Sheet1!D$64:D$123,INDEX(Sheet1!$D$64:$Z$123,,Sheet2!$B35))=1,"",CORREL(Sheet1!D$64:D$123,INDEX(Sheet1!$D$64:$Z$123,,Sheet2!$B35)))) | D35: =IF(AND(D34="",E35=""),"",IF(CORREL(Sheet1!E$64:E$123,INDEX(Sheet1!$D$64:$Z$123,,Sheet2!$B35))=1,"",CORREL(Sheet1!E$64:E$123,INDEX(Sheet1!$D$64:$Z$123,,Sheet2!$B35)))) | E35: =IF(AND(E34="",F35=""),"",IF(CORREL(Sheet1!F$64:F$123,INDEX(Sheet1!$D$64:$Z$123,,Sheet2!$B35))=1,"",CORREL(Sheet1!F$64:F$123,INDEX(Sheet1!$D$64:$Z$123,,Sheet2!$B35)))) | F35: =IF(AND(F34="",G35=""),"",IF(CORREL(Sheet1!G$64:G$123,INDEX(Sheet1!$D$64:$Z$123,,Sheet2!$B35))=1,"",CORREL(Sheet1!G$64:G$123,INDEX(Sheet1!$D$64:$Z$123,,Sheet2!$B35)))) | G35: =IF(AND(G34="",H35=""),"",IF(CORREL(Sheet1!H$64:H$123,INDEX(Sheet1!$D$64:$Z$123,,Sheet2!$B35))=1,"",CORREL(Sheet1!H$64:H$123,INDEX(Sheet1!$D$64:$Z$123,,Sheet2!$B35)))) | H35: =IF(AND(H34="",I35=""),"",IF(CORREL(Sheet1!I$64:I$123,INDEX(Sheet1!$D$64:$Z$123,,Sheet2!$B35))=1,"",CORREL(Sheet1!I$64:I$123,INDEX(Sheet1!$D$64:$Z$123,,Sheet2!$B35)))) | I35: =IF(AND(I34="",J35=""),"",IF(CORREL(Sheet1!J$64:J$123,INDEX(Sheet1!$D$64:$Z$123,,Sheet2!$B35))=1,"",CORREL(Sheet1!J$64:J$123,INDEX(Sheet1!$D$64:$Z$123,,Sheet2!$B35)))) | J35: =IF(AND(J34="",K35=""),"",IF(CORREL(Sheet1!K$64:K$123,INDEX(Sheet1!$D$64:$Z$123,,Sheet2!$B35))=1,"",CORREL(Sheet1!K$64:K$123,INDEX(Sheet1!$D$64:$Z$123,,Sheet2!$B35)))) | ... Y35: =IF(AND(Y34="",Z35=""),"",IF(CORREL(Sheet1!Z$64:Z$123,INDEX(Sheet1!$D$64:$Z$123,,Sheet2!$B35))=1,"",CORREL(Sheet1!Z$64:Z$123,INDEX(Sheet1!$D$64:$Z$123,,Sheet2!$B35)))) -> 0.24995832
A36: Forensics | B36: 9 | C36: =IF(AND(C35="",D36=""),"",IF(CORREL(Sheet1!D$64:D$123,INDEX(Sheet1!$D$64:$Z$123,,Sheet2!$B36))=1,"",CORREL(Sheet1!D$64:D$123,INDEX(Sheet1!$D$64:$Z$123,,Sheet2!$B36)))) | D36: =IF(AND(D35="",E36=""),"",IF(CORREL(Sheet1!E$64:E$123,INDEX(Sheet1!$D$64:$Z$123,,Sheet2!$B36))=1,"",CORREL(Sheet1!E$64:E$123,INDEX(Sheet1!$D$64:$Z$123,,Sheet2!$B36)))) | E36: =IF(AND(E35="",F36=""),"",IF(CORREL(Sheet1!F$64:F$123,INDEX(Sheet1!$D$64:$Z$123,,Sheet2!$B36))=1,"",CORREL(Sheet1!F$64:F$123,INDEX(Sheet1!$D$64:$Z$123,,Sheet2!$B36)))) | F36: =IF(AND(F35="",G36=""),"",IF(CORREL(Sheet1!G$64:G$123,INDEX(Sheet1!$D$64:$Z$123,,Sheet2!$B36))=1,"",CORREL(Sheet1!G$64:G$123,INDEX(Sheet1!$D$64:$Z$123,,Sheet2!$B36)))) | G36: =IF(AND(G35="",H36=""),"",IF(CORREL(Sheet1!H$64:H$123,INDEX(Sheet1!$D$64:$Z$123,,Sheet2!$B36))=1,"",CORREL(Sheet1!H$64:H$123,INDEX(Sheet1!$D$64:$Z$123,,Sheet2!$B36)))) | H36: =IF(AND(H35="",I36=""),"",IF(CORREL(Sheet1!I$64:I$123,INDEX(Sheet1!$D$64:$Z$123,,Sheet2!$B36))=1,"",CORREL(Sheet1!I$64:I$123,INDEX(Sheet1!$D$64:$Z$123,,Sheet2!$B36)))) | I36: =IF(AND(I35="",J36=""),"",IF(CORREL(Sheet1!J$64:J$123,INDEX(Sheet1!$D$64:$Z$123,,Sheet2!$B36))=1,"",CORREL(Sheet1!J$64:J$123,INDEX(Sheet1!$D$64:$Z$123,,Sheet2!$B36)))) | J36: =IF(AND(J35="",K36=""),"",IF(CORREL(Sheet1!K$64:K$123,INDEX(Sheet1!$D$64:$Z$123,,Sheet2!$B36))=1,"",CORREL(Sheet1!K$64:K$123,INDEX(Sheet1!$D$64:$Z$123,,Sheet2!$B36)))) | ... Y36: =IF(AND(Y35="",Z36=""),"",IF(CORREL(Sheet1!Z$64:Z$123,INDEX(Sheet1!$D$64:$Z$123,,Sheet2!$B36))=1,"",CORREL(Sheet1!Z$64:Z$123,INDEX(Sheet1!$D$64:$Z$123,,Sheet2!$B36)))) -> 0.38388441
A37: Game On | B37: 10 | C37: =IF(AND(C36="",D37=""),"",IF(CORREL(Sheet1!D$64:D$123,INDEX(Sheet1!$D$64:$Z$123,,Sheet2!$B37))=1,"",CORREL(Sheet1!D$64:D$123,INDEX(Sheet1!$D$64:$Z$123,,Sheet2!$B37)))) | D37: =IF(AND(D36="",E37=""),"",IF(CORREL(Sheet1!E$64:E$123,INDEX(Sheet1!$D$64:$Z$123,,Sheet2!$B37))=1,"",CORREL(Sheet1!E$64:E$123,INDEX(Sheet1!$D$64:$Z$123,,Sheet2!$B37)))) | E37: =IF(AND(E36="",F37=""),"",IF(CORREL(Sheet1!F$64:F$123,INDEX(Sheet1!$D$64:$Z$123,,Sheet2!$B37))=1,"",CORREL(Sheet1!F$64:F$123,INDEX(Sheet1!$D$64:$Z$123,,Sheet2!$B37)))) | F37: =IF(AND(F36="",G37=""),"",IF(CORREL(Sheet1!G$64:G$123,INDEX(Sheet1!$D$64:$Z$123,,Sheet2!$B37))=1,"",CORREL(Sheet1!G$64:G$123,INDEX(Sheet1!$D$64:$Z$123,,Sheet2!$B37)))) | G37: =IF(AND(G36="",H37=""),"",IF(CORREL(Sheet1!H$64:H$123,INDEX(Sheet1!$D$64:$Z$123,,Sheet2!$B37))=1,"",CORREL(Sheet1!H$64:H$123,INDEX(Sheet1!$D$64:$Z$123,,Sheet2!$B37)))) | H37: =IF(AND(H36="",I37=""),"",IF(CORREL(Sheet1!I$64:I$123,INDEX(Sheet1!$D$64:$Z$123,,Sheet2!$B37))=1,"",CORREL(Sheet1!I$64:I$123,INDEX(Sheet1!$D$64:$Z$123,,Sheet2!$B37)))) | I37: =IF(AND(I36="",J37=""),"",IF(CORREL(Sheet1!J$64:J$123,INDEX(Sheet1!$D$64:$Z$123,,Sheet2!$B37))=1,"",CORREL(Sheet1!J$64:J$123,INDEX(Sheet1!$D$64:$Z$123,,Sheet2!$B37)))) | J37: =IF(AND(J36="",K37=""),"",IF(CORREL(Sheet1!K$64:K$123,INDEX(Sheet1!$D$64:$Z$123,,Sheet2!$B37))=1,"",CORREL(Sheet1!K$64:K$123,INDEX(Sheet1!$D$64:$Z$123,,Sheet2!$B37)))) | ... Y37: =IF(AND(Y36="",Z37=""),"",IF(CORREL(Sheet1!Z$64:Z$123,INDEX(Sheet1!$D$64:$Z$123,,Sheet2!$B37))=1,"",CORREL(Sheet1!Z$64:Z$123,INDEX(Sheet1!$D$64:$Z$123,,Sheet2!$B37)))) -> 0.40077799
A38: Helicopters | B38: 11 | C38: =IF(AND(C37="",D38=""),"",IF(CORREL(Sheet1!D$64:D$123,INDEX(Sheet1!$D$64:$Z$123,,Sheet2!$B38))=1,"",CORREL(Sheet1!D$64:D$123,INDEX(Sheet1!$D$64:$Z$123,,Sheet2!$B38)))) | D38: =IF(AND(D37="",E38=""),"",IF(CORREL(Sheet1!E$64:E$123,INDEX(Sheet1!$D$64:$Z$123,,Sheet2!$B38))=1,"",CORREL(Sheet1!E$64:E$123,INDEX(Sheet1!$D$64:$Z$123,,Sheet2!$B38)))) | E38: =IF(AND(E37="",F38=""),"",IF(CORREL(Sheet1!F$64:F$123,INDEX(Sheet1!$D$64:$Z$123,,Sheet2!$B38))=1,"",CORREL(Sheet1!F$64:F$123,INDEX(Sheet1!$D$64:$Z$123,,Sheet2!$B38)))) | F38: =IF(AND(F37="",G38=""),"",IF(CORREL(Sheet1!G$64:G$123,INDEX(Sheet1!$D$64:$Z$123,,Sheet2!$B38))=1,"",CORREL(Sheet1!G$64:G$123,INDEX(Sheet1!$D$64:$Z$123,,Sheet2!$B38)))) | G38: =IF(AND(G37="",H38=""),"",IF(CORREL(Sheet1!H$64:H$123,INDEX(Sheet1!$D$64:$Z$123,,Sheet2!$B38))=1,"",CORREL(Sheet1!H$64:H$123,INDEX(Sheet1!$D$64:$Z$123,,Sheet2!$B38)))) | H38: =IF(AND(H37="",I38=""),"",IF(CORREL(Sheet1!I$64:I$123,INDEX(Sheet1!$D$64:$Z$123,,Sheet2!$B38))=1,"",CORREL(Sheet1!I$64:I$123,INDEX(Sheet1!$D$64:$Z$123,,Sheet2!$B38)))) | I38: =IF(AND(I37="",J38=""),"",IF(CORREL(Sheet1!J$64:J$123,INDEX(Sheet1!$D$64:$Z$123,,Sheet2!$B38))=1,"",CORREL(Sheet1!J$64:J$123,INDEX(Sheet1!$D$64:$Z$123,,Sheet2!$B38)))) | J38: =IF(AND(J37="",K38=""),"",IF(CORREL(Sheet1!K$64:K$123,INDEX(Sheet1!$D$64:$Z$123,,Sheet2!$B38))=1,"",CORREL(Sheet1!K$64:K$123,INDEX(Sheet1!$D$64:$Z$123,,Sheet2!$B38)))) | ... Y38: =IF(AND(Y37="",Z38=""),"",IF(CORREL(Sheet1!Z$64:Z$123,INDEX(Sheet1!$D$64:$Z$123,,Sheet2!$B38))=1,"",CORREL(Sheet1!Z$64:Z$123,INDEX(Sheet1!$D$64:$Z$123,,Sheet2!$B38)))) -> 0.24768423
A39: Hovercraft | B39: 12 | C39: =IF(AND(C38="",D39=""),"",IF(CORREL(Sheet1!D$64:D$123,INDEX(Sheet1!$D$64:$Z$123,,Sheet2!$B39))=1,"",CORREL(Sheet1!D$64:D$123,INDEX(Sheet1!$D$64:$Z$123,,Sheet2!$B39)))) | D39: =IF(AND(D38="",E39=""),"",IF(CORREL(Sheet1!E$64:E$123,INDEX(Sheet1!$D$64:$Z$123,,Sheet2!$B39))=1,"",CORREL(Sheet1!E$64:E$123,INDEX(Sheet1!$D$64:$Z$123,,Sheet2!$B39)))) | E39: =IF(AND(E38="",F39=""),"",IF(CORREL(Sheet1!F$64:F$123,INDEX(Sheet1!$D$64:$Z$123,,Sheet2!$B39))=1,"",CORREL(Sheet1!F$64:F$123,INDEX(Sheet1!$D$64:$Z$123,,Sheet2!$B39)))) | F39: =IF(AND(F38="",G39=""),"",IF(CORREL(Sheet1!G$64:G$123,INDEX(Sheet1!$D$64:$Z$123,,Sheet2!$B39))=1,"",CORREL(Sheet1!G$64:G$123,INDEX(Sheet1!$D$64:$Z$123,,Sheet2!$B39)))) | G39: =IF(AND(G38="",H39=""),"",IF(CORREL(Sheet1!H$64:H$123,INDEX(Sheet1!$D$64:$Z$123,,Sheet2!$B39))=1,"",CORREL(Sheet1!H$64:H$123,INDEX(Sheet1!$D$64:$Z$123,,Sheet2!$B39)))) | H39: =IF(AND(H38="",I39=""),"",IF(CORREL(Sheet1!I$64:I$123,INDEX(Sheet1!$D$64:$Z$123,,Sheet2!$B39))=1,"",CORREL(Sheet1!I$64:I$123,INDEX(Sheet1!$D$64:$Z$123,,Sheet2!$B39)))) | I39: =IF(AND(I38="",J39=""),"",IF(CORREL(Sheet1!J$64:J$123,INDEX(Sheet1!$D$64:$Z$123,,Sheet2!$B39))=1,"",CORREL(Sheet1!J$64:J$123,INDEX(Sheet1!$D$64:$Z$123,,Sheet2!$B39)))) | J39: =IF(AND(J38="",K39=""),"",IF(CORREL(Sheet1!K$64:K$123,INDEX(Sheet1!$D$64:$Z$123,,Sheet2!$B39))=1,"",CORREL(Sheet1!K$64:K$123,INDEX(Sheet1!$D$64:$Z$123,,Sheet2!$B39)))) | ... Y39: =IF(AND(Y38="",Z39=""),"",IF(CORREL(Sheet1!Z$64:Z$123,INDEX(Sheet1!$D$64:$Z$123,,Sheet2!$B39))=1,"",CORREL(Sheet1!Z$64:Z$123,INDEX(Sheet1!$D$64:$Z$123,,Sheet2!$B39)))) -> 0.23128647
... A50: Write It Do It | B50: 23 | C50: =IF(AND(C49="",D50=""),"",IF(CORREL(Sheet1!D$64:D$123,INDEX(Sheet1!$D$64:$Z$123,,Sheet2!$B50))=1,"",CORREL(Sheet1!D$64:D$123,INDEX(Sheet1!$D$64:$Z$123,,Sheet2!$B50)))) | D50: =IF(AND(D49="",E50=""),"",IF(CORREL(Sheet1!E$64:E$123,INDEX(Sheet1!$D$64:$Z$123,,Sheet2!$B50))=1,"",CORREL(Sheet1!E$64:E$123,INDEX(Sheet1!$D$64:$Z$123,,Sheet2!$B50)))) | E50: =IF(AND(E49="",F50=""),"",IF(CORREL(Sheet1!F$64:F$123,INDEX(Sheet1!$D$64:$Z$123,,Sheet2!$B50))=1,"",CORREL(Sheet1!F$64:F$123,INDEX(Sheet1!$D$64:$Z$123,,Sheet2!$B50)))) | F50: =IF(AND(F49="",G50=""),"",IF(CORREL(Sheet1!G$64:G$123,INDEX(Sheet1!$D$64:$Z$123,,Sheet2!$B50))=1,"",CORREL(Sheet1!G$64:G$123,INDEX(Sheet1!$D$64:$Z$123,,Sheet2!$B50)))) | G50: =IF(AND(G49="",H50=""),"",IF(CORREL(Sheet1!H$64:H$123,INDEX(Sheet1!$D$64:$Z$123,,Sheet2!$B50))=1,"",CORREL(Sheet1!H$64:H$123,INDEX(Sheet1!$D$64:$Z$123,,Sheet2!$B50)))) | H50: =IF(AND(H49="",I50=""),"",IF(CORREL(Sheet1!I$64:I$123,INDEX(Sheet1!$D$64:$Z$123,,Sheet2!$B50))=1,"",CORREL(Sheet1!I$64:I$123,INDEX(Sheet1!$D$64:$Z$123,,Sheet2!$B50)))) | I50: =IF(AND(I49="",J50=""),"",IF(CORREL(Sheet1!J$64:J$123,INDEX(Sheet1!$D$64:$Z$123,,Sheet2!$B50))=1,"",CORREL(Sheet1!J$64:J$123,INDEX(Sheet1!$D$64:$Z$123,,Sheet2!$B50)))) | J50: =IF(AND(J49="",K50=""),"",IF(CORREL(Sheet1!K$64:K$123,INDEX(Sheet1!$D$64:$Z$123,,Sheet2!$B50))=1,"",CORREL(Sheet1!K$64:K$123,INDEX(Sheet1!$D$64:$Z$123,,Sheet2!$B50)))) | ... Y50: =IF(AND(Y49="",Z50=""),"",IF(CORREL(Sheet1!Z$64:Z$123,INDEX(Sheet1!$D$64:$Z$123,,Sheet2!$B50))=1,"",CORREL(Sheet1!Z$64:Z$123,INDEX(Sheet1!$D$64:$Z$123,,Sheet2!$B50))))

Sheet Sheet1
A1: # | C1: SCHOOL | D1: 1 | E1: 2 | F1: 3 | G1: 4 | H1: 5 | I1: 6 | J1: 7 | K1: 8 | L1: 9 | M1: 10 | N1: 11 | O1: 12 | P1: 13 | Q1: 14 | R1: 15 | S1: 16 | T1: 17 | U1: 18 | V1: 19 | W1: 20 | X1: 21 | Y1: 22 | Z1: 23 | AA1: SCORE | AB1: RANK
A2: 01 | B2: CA | C2: Oak Valley Middle School | D2: 7 | E2: 4 | F2: 20 | G2: 32 | H2: 26 | I2: 10 | J2: 25 | K2: 24 | L2: 11 | M2: 24 | N2: 6 | O2: 39 | P2: 8 | Q2: 11 | R2: 21 | S2: 18 | T2: 43 | U2: 27 | V2: 16 | W2: 17 | X2: 24 | Y2: 22 | Z2: 16 | AA2: 451 | AB2: 16
A3: 02 | B3: CA | C3: Winston Churchill Middle School | D3: 3 | E3: 1 | F3: 8 | G3: 6 | H3: 15 | I3: 4 | J3: 5 | K3: 6 | L3: 4 | M3: 20 | N3: 7 | O3: 21 | P3: 11 | Q3: 18 | R3: 7 | S3: 3 | T3: 7 | U3: 2 | V3: 23 | W3: 6 | X3: 4 | Y3: 2 | Z3: 2 | AA3: 185 | AB3: 2
A4: 03 | B4: NC | C4: Piedmont IB Middle School | D4: 28 | E4: 15 | F4: 1 | G4: 15 | H4: 1 | I4: 13 | J4: 39 | K4: 17 | L4: 2 | M4: 1 | N4: 25 | O4: 5 | P4: 19 | Q4: 4 | R4: 4 | S4: 8 | T4: 8 | U4: 4 | V4: 30 | W4: 9 | X4: 18 | Y4: 11 | Z4: 24 | AA4: 301 | AB4: 7
A5: 04 | B5: NC | C5: Fred J. Carnage Magnet Middle School | D5: 35 | E5: 29 | F5: 29 | G5: 36 | H5: 29 | I5: 2 | J5: 18 | K5: 29 | L5: 47 | M5: 43 | N5: 13 | O5: 37 | P5: 22 | Q5: 33 | R5: 33 | S5: 28 | T5: 36 | U5: 43 | V5: 1 | W5: 48 | X5: 26 | Y5: 9 | Z5: 12 | AA5: 638 | AB5: 27
A6: 05 | B6: MI | C6: Meads Mill Middle School | D6: 22 | E6: 11 | F6: 4 | G6: 4 | H6: 22 | I6: 24 | J6: 1 | K6: 7 | L6: 9 | M6: 9 | N6: 4 | O6: 2 | P6: 6 | Q6: 5 | R6: 3 | S6: 7 | T6: 18 | U6: 7 | V6: 11 | W6: 8 | X6: 6 | Y6: 10 | Z6: 27 | AA6: 227 | AB6: 4
A7: 06 | B7: MI | C7: Baker Middle School | D7: 23 | E7: 13 | F7: 14 | G7: 38 | H7: 31 | I7: 30 | J7: 9 | K7: 9 | L7: 6 | M7: 7 | N7: 3 | O7: 6 | P7: 36 | Q7: 7 | R7: 16 | S7: 15 | T7: 6 | U7: 26 | V7: 8 | W7: 28 | X7: 17 | Y7: 33 | Z7: 45 | AA7: 426 | AB7: 13
A8: 07 | B8: NY | C8: Eagle Hill Middle School | D8: 15 | E8: 20 | F8: 21 | G8: 18 | H8: 13 | I8: 31 | J8: 4 | K8: 22 | L8: 3 | M8: 15 | N8: 51 | O8: 3 | P8: 24 | Q8: 50 | R8: 28 | S8: 4 | T8: 24 | U8: 22 | V8: 47 | W8: 34 | X8: 37 | Y8: 21 | Z8: 31 | AA8: 538 | AB8: 18
A9: 08 | B9: NY | C9: Paul J. Gelinas Junior High School | D9: 24 | E9: 19 | F9: 26 | G9: 22 | H9: 19 | I9: 32 | J9: 10 | K9: 36 | L9: 26 | M9: 3 | N9: 21 | O9: 4 | P9: 4 | Q9: 23 | R9: 1 | S9: 6 | T9: 14 | U9: 5 | V9: 24 | W9: 2 | X9: 5 | Y9: 16 | Z9: 34 | AA9: 376 | AB9: 10
A10: 09 | B10: IL | C10: Daniel Wright Junior High School | D10: 29 | E10: 10 | F10: 5 | G10: 7 | H10: 12 | I10: 5 | J10: 3 | K10: 1 | L10: 1 | M10: 11 | N10: 5 | O10: 10 | P10: 3 | Q10: 2 | R10: 9 | S10: 1 | T10: 19 | U10: 6 | V10: 4 | W10: 4 | X10: 9 | Y10: 3 | Z10: 6 | AA10: 165 | AB10: 1
A11: 10 | B11: IL | C11: Marie Murphy Middle School | D11: 21 | E11: 8 | F11: 3 | G11: 31 | H11: 11 | I11: 11 | J11: 20 | K11: 14 | L11: 14 | M11: 2 | N11: 22 | O11: 19 | P11: 26 | Q11: 14 | R11: 6 | S11: 14 | T11: 12 | U11: 3 | V11: 25 | W11: 3 | X11: 7 | Y11: 5 | Z11: 17 | AA11: 308 | AB11: 8
A12: 11 | B12: OH | C12: Tower Heights Middle School | D12: 43 | E12: 52 | F12: 10 | G12: 2 | H12: 7 | I12: 18 | J12: 17 | K12: 28 | L12: 30 | M12: 18 | N12: 9 | O12: 30 | P12: 28 | Q12: 13 | R12: 10 | S12: 23 | T12: 26 | U12: 11 | V12: 20 | W12: 5 | X12: 10 | Y12: 27 | Z12: 23 | AA12: 460 | AB12: 17
A13: 12 | B13: OH | C13: Solon Middle School | D13: 4 | E13: 2 | F13: 7 | G13: 37 | H13: 9 | I13: 14 | J13: 6 | K13: 3 | L13: 5 | M13: 12 | N13: 1 | O13: 13 | P13: 9 | Q13: 8 | R13: 2 | S13: 2 | T13: 5 | U13: 1 | V13: 3 | W13: 11 | X13: 2 | Y13: 32 | Z13: 13 | AA13: 201 | AB13: 3
... A61: 60 | B61: WV | C61: Huntington Middle School | D61: 44 | E61: 55 | F61: 51 | G61: 53 | H61: 52 | I61: 57 | J61: 47 | K61: 55 | L61: 54 | M61: 41 | N61: 48 | O61: 45 | P61: 58 | Q61: 45 | R61: 57 | S61: 59 | T61: 59 | U61: 60 | V61: 46 | W61: 33 | X61: 59 | Y61: 1 | Z61: 50 | AA61: 1129 | AB61: 55
C62: EVENT | D62: Anatomy & Physiology | E62: Bottle Rocket | F62: Crime Busters | G62: Disease Detectives | H62: Dynamic Planet | I62: Ecology | J62: Experimental Design | K62: Fast Facts | L62: Food Science | M62: Hovercraft | N62: Invasive Species | O62: Meteorology | P62: Microbe Mission | Q62: Mission Possible | R62: Optics | S62: Reach for the Stars | T62: Road Scholar | U62: Rocks and Minerals | V62: Scrambler | W62: Towers | X62: Wind Power | Y62: Wright Stuff | Z62: Write It Do It
C63: CORRELATION | D63: =CORREL(D2:D61,$AB2:$AB61) -> 0.55771048 | E63: =CORREL(E2:E61,$AB2:$AB61) -> 0.72565655 | F63: =CORREL(F2:F61,$AB2:$AB61) -> 0.78794109 | G63: =CORREL(G2:G61,$AB2:$AB61) -> 0.66255323 | H63: =CORREL(H2:H61,$AB2:$AB61) -> 0.77176994 | I63: =CORREL(I2:I61,$AB2:$AB61) -> 0.77961309 | J63: =CORREL(J2:J61,$AB2:$AB61) -> 0.82182917 | K63: =CORREL(K2:K61,$AB2:$AB61) -> 0.7297027 | ... Z63: =CORREL(Z2:Z61,$AB2:$AB61) -> 0.62227577
A64: 01 | B64: NY | C64: Fayetteville-Manlius High School | D64: 7 | E64: 5 | F64: 26 | G64: 35 | H64: 21 | I64: 42 | J64: 15 | K64: 32 | L64: 19 | M64: 25 | N64: 15 | O64: 21 | P64: 33 | Q64: 8 | R64: 32 | S64: 12 | T64: 4 | U64: 48 | V64: 14 | W64: 6 | X64: 1 | Y64: 26 | Z64: 1 | AA64: 448 | AB64: 16
A65: 02 | B65: NY | C65: Columbia High School | D65: 22 | E65: 32 | F65: 28 | G65: 7 | H65: 12 | I65: 43 | J65: 20 | K65: 26 | L65: 14 | M65: 4 | N65: 26 | O65: 15 | P65: 23 | Q65: 16 | R65: 30 | S65: 21 | T65: 15 | U65: 14 | V65: 18 | W65: 8 | X65: 22 | Y65: 17 | Z65: 4 | AA65: 437 | AB65: 15
A66: 03 | B66: CA | C66: Troy High School | D66: 4 | E66: 11 | F66: 1 | G66: 2 | H66: 8 | I66: 6 | J66: 9 | K66: 21 | L66: 12 | M66: 18 | N66: 11 | O66: 11 | P66: 14 | Q66: 7 | R66: 2 | S66: 1 | T66: 22 | U66: 6 | V66: 2 | W66: 5 | X66: 4 | Y66: 1 | Z66: 14 | AA66: 192 | AB66: 1
A67: 04 | B67: CA | C67: Mira Loma High School | D67: 10 | E67: 28 | F67: 2 | G67: 1 | H67: 15 | I67: 3 | J67: 1 | K67: 22 | L67: 22 | M67: 9 | N67: 5 | O67: 5 | P67: 16 | Q67: 10 | R67: 9 | S67: 18 | T67: 20 | U67: 13 | V67: 12 | W67: 11 | X67: 9 | Y67: 6 | Z67: 31 | AA67: 278 | AB67: 5
A68: 05 | B68: NC | C68: North Carolina School of Science and Math | D68: 33 | E68: 24 | F68: 35 | G68: 16 | H68: 34 | I68: 13 | J68: 47 | K68: 6 | L68: 46 | M68: 27 | N68: 31 | O68: 8 | P68: 15 | Q68: 38 | R68: 17 | S68: 34 | T68: 50 | U68: 26 | V68: 57 | W68: 39 | X68: 21 | Y68: 37 | Z68: 38 | AA68: 692 | AB68: 32
A69: 06 | B69: NC | C69: William G. Enloe High School | D69: 20 | E69: 8 | F69: 7 | G69: 51 | H69: 48 | I69: 21 | J69: 51 | K69: 20 | L69: 26 | M69: 45 | N69: 23 | O69: 38 | P69: 20 | Q69: 9 | R69: 10 | S69: 33 | T69: 7 | U69: 4 | V69: 51 | W69: 15 | X69: 43 | Y69: 18 | Z69: 35 | AA69: 603 | AB69: 26
A70: 07 | B70: MI | C70: Northville High School | D70: 1 | E70: 10 | F70: 11 | G70: 14 | H70: 13 | I70: 38 | J70: 29 | K70: 10 | L70: 1 | M70: 21 | N70: 2 | O70: 10 | P70: 10 | Q70: 6 | R70: 11 | S70: 13 | T70: 3 | U70: 10 | V70: 8 | W70: 7 | X70: 8 | Y70: 10 | Z70: 5 | AA70: 251 | AB70: 4
A71: 08 | B71: MI | C71: International Academy Central | D71: 14 | E71: 27 | F71: 30 | G71: 33 | H71: 17 | I71: 31 | J71: 23 | K71: 11 | L71: 30 | M71: 1 | N71: 3 | O71: 37 | P71: 19 | Q71: 15 | R71: 13 | S71: 44 | T71: 8 | U71: 39 | V71: 21 | W71: 28 | X71: 6 | Y71: 30 | Z71: 2 | AA71: 482 | AB71: 18
A72: 09 | B72: IL | C72: New Trier High School | D72: 15 | E72: 1 | F72: 16 | G72: 13 | H72: 23 | I72: 12 | J72: 53 | K72: 33 | L72: 3 | M72: 7 | N72: 9 | O72: 3 | P72: 1 | Q72: 33 | R72: 5 | S72: 22 | T72: 46 | U72: 7 | V72: 19 | W72: 14 | X72: 12 | Y72: 2 | Z72: 8 | AA72: 357 | AB72: 9
A73: 10 | B73: IL | C73: Adlai E. Stevenson High School | D73: 25 | E73: 19 | F73: 13 | G73: 8 | H73: 18 | I73: 46 | J73: 7 | K73: 3 | L73: 4 | M73: 10 | N73: 39 | O73: 19 | P73: 34 | Q73: 22 | R73: 26 | S73: 4 | T73: 13 | U73: 3 | V73: 3 | W73: 27 | X73: 3 | Y73: 5 | Z73: 18 | AA73: 369 | AB73: 10
A74: 11 | B74: PA | C74: Harriton High School | D74: 3 | E74: 9 | F74: 3 | G74: 3 | H74: 4 | I74: 7 | J74: 3 | K74: 31 | L74: 9 | M74: 14 | N74: 13 | O74: 30 | P74: 8 | Q74: 1 | R74: 4 | S74: 3 | T74: 2 | U74: 1 | V74: 11 | W74: 22 | X74: 7 | Y74: 8 | Z74: 15 | AA74: 211 | AB74: 2
A75: 12 | B75: PA | C75: Bayard Rustin High School | D75: 39 | E75: 20 | F75: 6 | G75: 37 | H75: 28 | I75: 14 | J75: 30 | K75: 23 | L75: 17 | M75: 5 | N75: 33 | O75: 12 | P75: 17 | Q75: 28 | R75: 24 | S75: 11 | T75: 14 | U75: 19 | V75: 16 | W75: 32 | X75: 37 | Y75: 40 | Z75: 16 | AA75: 518 | AB75: 21
... A123: 60 | B123: WV | C123: Huntington High School | D123: 58 | E123: 43 | F123: 59 | G123: 55 | H123: 52 | I123: 55 | J123: 43 | K123: 59 | L123: 58 | M123: 55 | N123: 59 | O123: 60 | P123: 58 | Q123: 60 | R123: 56 | S123: 60 | T123: 59 | U123: 60 | V123: 52 | W123: 51 | X123: 57 | Y123: 60 | Z123: 55 | AA123: 1284 | AB123: 60
C124: EVENT | D124: Anatomy & Physiology | E124: Astronomy | F124: Chemistry Lab | G124: Disease Detectives | H124: Dynamic Planet | I124: Ecology | J124: Electric Vehicle | K124: Experimental Design | L124: Forensics | M124: Game On | N124: Helicopters | O124: Hovercraft | P124: Hydrogeology | Q124: Invasive Species | R124: Materials Science | S124: Microbe Mission | T124: Optics | U124: Remote Sensing | V124: Robot Arm | W124: Rocks and Minerals | X124: Towers | Y124: Wind Power | Z124: Write It Do It
C125: CORRELATION | D125: =CORREL(D64:D123,$AB64:$AB123) -> 0.84706863 | E125: =CORREL(E64:E123,$AB64:$AB123) -> 0.79983329 | F125: =CORREL(F64:F123,$AB64:$AB123) -> 0.81572659 | G125: =CORREL(G64:G123,$AB64:$AB123) -> 0.73737149 | H125: =CORREL(H64:H123,$AB64:$AB123) -> 0.82717422 | I125: =CORREL(I64:I123,$AB64:$AB123) -> 0.56934413 | J125: =CORREL(J64:J123,$AB64:$AB123) -> 0.56167885 | K125: =CORREL(K64:K123,$AB64:$AB123) -> 0.66840789 | ... Z125: =CORREL(Z64:Z123,$AB64:$AB123) -> 0.42328425
